BEGIN:VCALENDAR
VERSION:2.0
PRODID:-//Elk Haven Winery - ECPv6.15.20//NONSGML v1.0//EN
CALSCALE:GREGORIAN
METHOD:PUBLISH
X-WR-CALNAME:Elk Haven Winery
X-ORIGINAL-URL:https://www.elkhavenwinery.com
X-WR-CALDESC:Events for Elk Haven Winery
REFRESH-INTERVAL;VALUE=DURATION:PT1H
X-Robots-Tag:noindex
X-PUBLISHED-TTL:PT1H
BEGIN:VTIMEZONE
TZID:America/Los_Angeles
BEGIN:DAYLIGHT
TZOFFSETFROM:-0800
TZOFFSETTO:-0700
TZNAME:PDT
DTSTART:20230312T100000
END:DAYLIGHT
BEGIN:STANDARD
TZOFFSETFROM:-0700
TZOFFSETTO:-0800
TZNAME:PST
DTSTART:20231105T090000
END:STANDARD
BEGIN:DAYLIGHT
TZOFFSETFROM:-0800
TZOFFSETTO:-0700
TZNAME:PDT
DTSTART:20240310T100000
END:DAYLIGHT
BEGIN:STANDARD
TZOFFSETFROM:-0700
TZOFFSETTO:-0800
TZNAME:PST
DTSTART:20241103T090000
END:STANDARD
BEGIN:DAYLIGHT
TZOFFSETFROM:-0800
TZOFFSETTO:-0700
TZNAME:PDT
DTSTART:20250309T100000
END:DAYLIGHT
BEGIN:STANDARD
TZOFFSETFROM:-0700
TZOFFSETTO:-0800
TZNAME:PST
DTSTART:20251102T090000
END:STANDARD
END:VTIMEZONE
BEGIN:VEVENT
DTSTART;TZID=America/Los_Angeles:20240811T130000
DTEND;TZID=America/Los_Angeles:20240811T150000
DTSTAMP:20260419T063816
CREATED:20240723T195556Z
LAST-MODIFIED:20240723T195616Z
UID:10000426-1723381200-1723388400@www.elkhavenwinery.com
SUMMARY:Ladies Summer Bunco Tournament
DESCRIPTION:Feeling lucky? Come inside out of the heat and join us in the Tasting Room for a fun afternoon of Bunco\, wine\, and meeting new friends!  Let’s roll the dice and raise a glass of wine to win some great prizes! Reservations are required and the tournament is FREE to play! Reserve your spot by calling the Tasting Room at 509-637-7710 or email Robin at robin@elkhavenwinery.com.
URL:https://www.elkhavenwinery.com/event/ladies-summer-bunco-tournament/
LOCATION:Elk Haven Winery\, 34101 North Demoss Road\, Benton City\, WA\, 99350\, United States
CATEGORIES:General Events,Member Events
ATTACH;FMTTYPE=image/jpeg:https://www.elkhavenwinery.com/wp-content/uploads/2024/07/Ladies-Summer-Bunco.jpg
GEO:46.2621;-119.471636
X-APPLE-STRUCTURED-LOCATION;VALUE=URI;X-ADDRESS=Elk Haven Winery 34101 North Demoss Road Benton City WA 99350 United States;X-APPLE-RADIUS=500;X-TITLE=34101 North Demoss Road:geo:-119.471636,46.2621
END:VEVENT
END:VCALENDAR