BEGIN:VCALENDAR
VERSION:2.0
PRODID:-//Elk Haven Winery - ECPv6.15.20//NONSGML v1.0//EN
CALSCALE:GREGORIAN
METHOD:PUBLISH
X-WR-CALNAME:Elk Haven Winery
X-ORIGINAL-URL:https://www.elkhavenwinery.com
X-WR-CALDESC:Events for Elk Haven Winery
REFRESH-INTERVAL;VALUE=DURATION:PT1H
X-Robots-Tag:noindex
X-PUBLISHED-TTL:PT1H
BEGIN:VTIMEZONE
TZID:America/Los_Angeles
BEGIN:DAYLIGHT
TZOFFSETFROM:-0800
TZOFFSETTO:-0700
TZNAME:PDT
DTSTART:20230312T100000
END:DAYLIGHT
BEGIN:STANDARD
TZOFFSETFROM:-0700
TZOFFSETTO:-0800
TZNAME:PST
DTSTART:20231105T090000
END:STANDARD
BEGIN:DAYLIGHT
TZOFFSETFROM:-0800
TZOFFSETTO:-0700
TZNAME:PDT
DTSTART:20240310T100000
END:DAYLIGHT
BEGIN:STANDARD
TZOFFSETFROM:-0700
TZOFFSETTO:-0800
TZNAME:PST
DTSTART:20241103T090000
END:STANDARD
BEGIN:DAYLIGHT
TZOFFSETFROM:-0800
TZOFFSETTO:-0700
TZNAME:PDT
DTSTART:20250309T100000
END:DAYLIGHT
BEGIN:STANDARD
TZOFFSETFROM:-0700
TZOFFSETTO:-0800
TZNAME:PST
DTSTART:20251102T090000
END:STANDARD
BEGIN:DAYLIGHT
TZOFFSETFROM:-0800
TZOFFSETTO:-0700
TZNAME:PDT
DTSTART:20260308T100000
END:DAYLIGHT
BEGIN:STANDARD
TZOFFSETFROM:-0700
TZOFFSETTO:-0800
TZNAME:PST
DTSTART:20261101T090000
END:STANDARD
END:VTIMEZONE
BEGIN:VEVENT
DTSTART;VALUE=DATE:20241101
DTEND;VALUE=DATE:20250501
DTSTAMP:20260423T065825
CREATED:20241121T205807Z
LAST-MODIFIED:20250121T225316Z
UID:10000986-1730419200-1746057599@www.elkhavenwinery.com
SUMMARY:Wine-Flation Event:  New Wine Discounts
DESCRIPTION:As if you needed another reason to love Elk Haven wines…we are now offering additional discounts to both our valued Club Members and non-club members. \nBugling Bull club members will now receive 30% off all wine bottle purchases and Spike & Branch Bull club members will receive 25% off all wine bottle purchases. \nNon-club members receive 15% off all red wine bottle purchases and 20% off all white wine bottle purchases. \nGuests who purchase two bottles of Elk Haven wine will receive a complimentary chocolate bar to enjoy!
URL:https://www.elkhavenwinery.com/event/wine-flation-event-new-wine-discounts/
LOCATION:Elk Haven Winery\, 34101 North Demoss Road\, Benton City\, WA\, 99350\, United States
CATEGORIES:General Events,Member Events
ATTACH;FMTTYPE=image/jpeg:https://www.elkhavenwinery.com/wp-content/uploads/2025/01/EH-Winery-New-Discounts-Corrected-Copy-1.jpg
GEO:46.2621;-119.471636
X-APPLE-STRUCTURED-LOCATION;VALUE=URI;X-ADDRESS=Elk Haven Winery 34101 North Demoss Road Benton City WA 99350 United States;X-APPLE-RADIUS=500;X-TITLE=34101 North Demoss Road:geo:-119.471636,46.2621
END:VEVENT
BEGIN:VEVENT
DTSTART;VALUE=DATE:20241224
DTEND;VALUE=DATE:20241226
DTSTAMP:20260423T065825
CREATED:20241121T202107Z
LAST-MODIFIED:20241121T210524Z
UID:10000450-1734998400-1735171199@www.elkhavenwinery.com
SUMMARY:Closed for the Holidays
DESCRIPTION:We wanted to take a moment to thank you for allowing Elk Haven Winery to be a part of your holiday season!\n  \nElk Haven Winery will be closed on Christmas Eve and Christmas Day so our team can enjoy the holiday with loved ones.\n  \nWe look forward to seeing you on December 26th-cheers!
URL:https://www.elkhavenwinery.com/event/closed-for-the-holidays/
LOCATION:Elk Haven Winery\, 34101 North Demoss Road\, Benton City\, WA\, 99350\, United States
CATEGORIES:General Events,Member Events
ATTACH;FMTTYPE=image/jpeg:https://www.elkhavenwinery.com/wp-content/uploads/2024/11/EH-Closed-for-the-Holidays.jpg
GEO:46.2621;-119.471636
X-APPLE-STRUCTURED-LOCATION;VALUE=URI;X-ADDRESS=Elk Haven Winery 34101 North Demoss Road Benton City WA 99350 United States;X-APPLE-RADIUS=500;X-TITLE=34101 North Demoss Road:geo:-119.471636,46.2621
END:VEVENT
END:VCALENDAR